BEGIN:VCALENDAR
VERSION:2.0
PRODID:-//Staller Estate Winery - ECPv6.15.13//NONSGML v1.0//EN
CALSCALE:GREGORIAN
METHOD:PUBLISH
X-ORIGINAL-URL:https://www.stallerestate.com
X-WR-CALDESC:Events for Staller Estate Winery
REFRESH-INTERVAL;VALUE=DURATION:PT1H
X-Robots-Tag:noindex
X-PUBLISHED-TTL:PT1H
BEGIN:VTIMEZONE
TZID:America/Chicago
BEGIN:DAYLIGHT
TZOFFSETFROM:-0600
TZOFFSETTO:-0500
TZNAME:CDT
DTSTART:20230312T080000
END:DAYLIGHT
BEGIN:STANDARD
TZOFFSETFROM:-0500
TZOFFSETTO:-0600
TZNAME:CST
DTSTART:20231105T070000
END:STANDARD
BEGIN:DAYLIGHT
TZOFFSETFROM:-0600
TZOFFSETTO:-0500
TZNAME:CDT
DTSTART:20240310T080000
END:DAYLIGHT
BEGIN:STANDARD
TZOFFSETFROM:-0500
TZOFFSETTO:-0600
TZNAME:CST
DTSTART:20241103T070000
END:STANDARD
BEGIN:DAYLIGHT
TZOFFSETFROM:-0600
TZOFFSETTO:-0500
TZNAME:CDT
DTSTART:20250309T080000
END:DAYLIGHT
BEGIN:STANDARD
TZOFFSETFROM:-0500
TZOFFSETTO:-0600
TZNAME:CST
DTSTART:20251102T070000
END:STANDARD
BEGIN:DAYLIGHT
TZOFFSETFROM:-0600
TZOFFSETTO:-0500
TZNAME:CDT
DTSTART:20260308T080000
END:DAYLIGHT
BEGIN:STANDARD
TZOFFSETFROM:-0500
TZOFFSETTO:-0600
TZNAME:CST
DTSTART:20261101T070000
END:STANDARD
END:VTIMEZONE
BEGIN:VEVENT
DTSTART;TZID=America/Chicago:20250627T180000
DTEND;TZID=America/Chicago:20250627T200000
DTSTAMP:20260423T131312
CREATED:20250320T192851Z
LAST-MODIFIED:20250320T192851Z
UID:5935-1751047200-1751054400@www.stallerestate.com
SUMMARY:June Paint & Sip
DESCRIPTION:RESERVATIONS REQUIRED \nPaint a Summer night scene. Art teacher\, Jennifer\, will walk you through the image step-by-step or paint whatever you like! All supplies are included plus a beverage. \n  \nSign Up Here\n 
URL:https://www.stallerestate.com/event/june-paint-sip/
CATEGORIES:Staller Estate Events
ATTACH;FMTTYPE=image/png:https://www.stallerestate.com/wp-content/uploads/2025/03/June-Paint-and-Sip-2025-1.png
END:VEVENT
BEGIN:VEVENT
DTSTART;TZID=America/Chicago:20250620T180000
DTEND;TZID=America/Chicago:20250620T200000
DTSTAMP:20260423T131312
CREATED:20250320T182156Z
LAST-MODIFIED:20250320T182156Z
UID:5930-1750442400-1750449600@www.stallerestate.com
SUMMARY:Old Fashioned Cocktail Class
DESCRIPTION:RESERVATIONS REQUIRED \nReady to elevate your hosting game? Join us in mastering the art of crafting Old Fashion’s! Perfect for impressing guests or savoring your own mixology skills. Let’s shake\, stir\, and sip our way into the season together. \n  \nSign Up Here
URL:https://www.stallerestate.com/event/old-fashioned-cocktail-class-5/
CATEGORIES:Staller Estate Events
ATTACH;FMTTYPE=image/png:https://www.stallerestate.com/wp-content/uploads/2025/03/Old-Fashioned-Cocktail-Class-2025.png
END:VEVENT
BEGIN:VEVENT
DTSTART;TZID=America/Chicago:20250615T120000
DTEND;TZID=America/Chicago:20250615T140000
DTSTAMP:20260423T131312
CREATED:20250320T180932Z
LAST-MODIFIED:20250605T135456Z
UID:5926-1749988800-1749996000@www.stallerestate.com
SUMMARY:Father's Day Wine & Dine
DESCRIPTION:RESERVATIONS REQUIRED \nBring your Fathers and join us for our delicious Beef\, Barrels\, and Brandy Wine + Dine! This exquisite five-course meal will be paired with our delectable wines. Treat your Father to an unforgettable dinning experience. \n \nSign Up Here
URL:https://www.stallerestate.com/event/fathers-day-wine-dine-3/
CATEGORIES:Staller Estate Events
ATTACH;FMTTYPE=image/png:https://www.stallerestate.com/wp-content/uploads/2025/03/Fathers-Day-Wine-Dine-2025.png
END:VEVENT
BEGIN:VEVENT
DTSTART;TZID=America/Chicago:20250523T180000
DTEND;TZID=America/Chicago:20250523T200000
DTSTAMP:20260423T131312
CREATED:20250320T171039Z
LAST-MODIFIED:20250320T171039Z
UID:5923-1748023200-1748030400@www.stallerestate.com
SUMMARY:May Cocktail Class
DESCRIPTION:RESERVATIONS REQUIRED \nReady to elevate your hosting game? Join us in mastering the art of crafting three refreshing cocktails! Perfect for impressing guests or savoring your own mixology skills. Let’s shake\, stir\, and sip our way into the season together. \n  \nSign Up Here
URL:https://www.stallerestate.com/event/may-cocktail-class/
CATEGORIES:Staller Estate Events
ATTACH;FMTTYPE=image/png:https://www.stallerestate.com/wp-content/uploads/2025/03/May-Cocktail-Class-2025.png
END:VEVENT
BEGIN:VEVENT
DTSTART;TZID=America/Chicago:20250511T120000
DTEND;TZID=America/Chicago:20250511T140000
DTSTAMP:20260423T131312
CREATED:20250320T170313Z
LAST-MODIFIED:20260419T174122Z
UID:5920-1746964800-1746972000@www.stallerestate.com
SUMMARY:Mother's Day Wine & Dine
DESCRIPTION:RESERVATIONS REQUIRED \nBring your Mothers and join us for our delicious Wine + Dine! This exquisite five-course meal will be paired with our delectable wines. Treat your Mother to an unforgettable dinning experience. \n  \nSign Up Here 
URL:https://www.stallerestate.com/event/mothers-day-wine-dine-4/
CATEGORIES:Staller Estate Events
END:VEVENT
BEGIN:VEVENT
DTSTART;TZID=America/Chicago:20250503T120000
DTEND;TZID=America/Chicago:20250503T140000
DTSTAMP:20260423T131312
CREATED:20250320T164849Z
LAST-MODIFIED:20250320T165135Z
UID:5916-1746273600-1746280800@www.stallerestate.com
SUMMARY:Paint & Sip
DESCRIPTION:RESERVATIONS REQUIRED \nCome paint May flowers. Art teacher\, Jennifer\, will walk you through the image step-by-step or paint whatever you like! All supplies are included plus a beverage. \n\nSign Up Here 
URL:https://www.stallerestate.com/event/paint-sip/
CATEGORIES:Staller Estate Events
ATTACH;FMTTYPE=image/png:https://www.stallerestate.com/wp-content/uploads/2025/03/May-Paint-and-Sip-2025.png
END:VEVENT
BEGIN:VEVENT
DTSTART;TZID=America/Chicago:20250419T110000
DTEND;TZID=America/Chicago:20250419T180000
DTSTAMP:20260423T131312
CREATED:20250302T210859Z
LAST-MODIFIED:20250302T211737Z
UID:5908-1745060400-1745085600@www.stallerestate.com
SUMMARY:Easter Dusting
DESCRIPTION:Come in from 11a to 6p and hunt for an Easter egg! Every egg has a prize\, from a discount and free flight to an exclusive Barrel Cellar experience.
URL:https://www.stallerestate.com/event/easter-dusting-4/
CATEGORIES:Staller Estate Events
ATTACH;FMTTYPE=image/png:https://www.stallerestate.com/wp-content/uploads/2025/03/Easter-Dusting-2025.png
END:VEVENT
BEGIN:VEVENT
DTSTART;TZID=America/Chicago:20250413T120000
DTEND;TZID=America/Chicago:20250413T140000
DTSTAMP:20260423T131312
CREATED:20250302T210226Z
LAST-MODIFIED:20250302T210226Z
UID:5905-1744545600-1744552800@www.stallerestate.com
SUMMARY:April BINGO
DESCRIPTION:RESERVATIONS REQUIRED \nReady to shout “BINGO!” at our winery? Select your ticket\, gather your luck\, and let the games begin! We have lots of fun prizes to give out! \n  \n  \nSign Up Here
URL:https://www.stallerestate.com/event/april-bingo/
CATEGORIES:Staller Estate Events
ATTACH;FMTTYPE=image/png:https://www.stallerestate.com/wp-content/uploads/2025/03/April-BINGO-2025.png
END:VEVENT
BEGIN:VEVENT
DTSTART;TZID=America/Chicago:20250405T120000
DTEND;TZID=America/Chicago:20250405T140000
DTSTAMP:20260423T131312
CREATED:20250302T204727Z
LAST-MODIFIED:20250302T204727Z
UID:5901-1743854400-1743861600@www.stallerestate.com
SUMMARY:April Cocktail Class
DESCRIPTION:RESERVATIONS REQUIRED \nReady to elevate your hosting game? Join us in mastering the art of crafting three refreshing cocktails! Perfect for impressing guests or savoring your own mixology skills. Let’s shake\, stir\, and sip our way into the season together. \n  \nSign Up Here 
URL:https://www.stallerestate.com/event/april-cocktail-class/
CATEGORIES:Staller Estate Events
ATTACH;FMTTYPE=image/png:https://www.stallerestate.com/wp-content/uploads/2025/03/April-Cocktail-class-2025.png
END:VEVENT
BEGIN:VEVENT
DTSTART;TZID=America/Chicago:20250316T120000
DTEND;TZID=America/Chicago:20250316T140000
DTSTAMP:20260423T131312
CREATED:20250228T235059Z
LAST-MODIFIED:20250228T235310Z
UID:5895-1742126400-1742133600@www.stallerestate.com
SUMMARY:March St. Paddy's Day BINGO
DESCRIPTION:RESERVATIONS REQUIRED \nReady to shout “BINGO!” at our winery? Select your ticket\, gather your luck\, and let the games begin! We have lots of fun prizes to give out! \n  \nSign Up Here\n  \n  \n 
URL:https://www.stallerestate.com/event/march-st-paddys-day-bingo/
CATEGORIES:Staller Estate Events
ATTACH;FMTTYPE=image/png:https://www.stallerestate.com/wp-content/uploads/2025/02/St.-Pattys-BINGO-2025.png
END:VEVENT
BEGIN:VEVENT
DTSTART;TZID=America/Chicago:20250308T120000
DTEND;TZID=America/Chicago:20250308T140000
DTSTAMP:20260423T131312
CREATED:20250302T203131Z
LAST-MODIFIED:20250302T203637Z
UID:5898-1741435200-1741442400@www.stallerestate.com
SUMMARY:March Paint & Sip
DESCRIPTION:RESERVATIONS REQUIRED \nPaint a sophisticated cat. Art teacher\, Jennifer\, will walk you through the image step-by-step or paint whatever you like! All supplies are included plus a beverage. \n  \nSign Up Here 
URL:https://www.stallerestate.com/event/march-paint-sip/
CATEGORIES:Staller Estate Events
ATTACH;FMTTYPE=image/png:https://www.stallerestate.com/wp-content/uploads/2025/03/March-Paint-and-Sip-2025.png
END:VEVENT
BEGIN:VEVENT
DTSTART;TZID=America/Chicago:20250223T120000
DTEND;TZID=America/Chicago:20250223T140000
DTSTAMP:20260423T131312
CREATED:20250107T003332Z
LAST-MODIFIED:20250107T003332Z
UID:5891-1740312000-1740319200@www.stallerestate.com
SUMMARY:February BINGO
DESCRIPTION:RESERVATIONS REQUIRED \nReady to shout “BINGO!” at our winery? Select your ticket\, gather your luck\, and let the games begin! We have lots of fun prizes to give out!
URL:https://www.stallerestate.com/event/february-bingo/
CATEGORIES:Staller Estate Events
ATTACH;FMTTYPE=image/png:https://www.stallerestate.com/wp-content/uploads/2025/01/FEBRUARY-BINGO-2025.png
END:VEVENT
BEGIN:VEVENT
DTSTART;TZID=America/Chicago:20250215T120000
DTEND;TZID=America/Chicago:20250215T140000
DTSTAMP:20260423T131312
CREATED:20250107T002846Z
LAST-MODIFIED:20250107T002846Z
UID:5889-1739620800-1739628000@www.stallerestate.com
SUMMARY:February Cocktail Class
DESCRIPTION:RESERVATIONS REQUIRED \nReady to elevate your hosting game? Join us in mastering the art of crafting three refreshing cocktails! Perfect for impressing guests or savoring your own mixology skills. Let’s shake\, stir\, and sip our way into the season together.
URL:https://www.stallerestate.com/event/february-cocktail-class/
CATEGORIES:Staller Estate Events
ATTACH;FMTTYPE=image/png:https://www.stallerestate.com/wp-content/uploads/2025/01/February-Cocktail-Class-2025-.png
END:VEVENT
BEGIN:VEVENT
DTSTART;TZID=America/Chicago:20250209T120000
DTEND;TZID=America/Chicago:20250209T140000
DTSTAMP:20260423T131312
CREATED:20250106T021533Z
LAST-MODIFIED:20250118T233306Z
UID:5886-1739102400-1739109600@www.stallerestate.com
SUMMARY:Valentine's Wine & Dine
DESCRIPTION:Join us for our delicious Valentine’s Wine + Dine! This exquisite five-course meal will be paired with our delectable wines. Treat your sweetie to an unforgettable dinning experience. \nMenu \nStarter-Chef’s Choice \nSoup-Seafood Chowder \nSalad-Spinach salad with warm bacon dressing \nEntree-Steak Diane with garlic shrimp and crispy parmesan potatoes \nDessert-Decadent chocolate raspberry cake
URL:https://www.stallerestate.com/event/valentines-wine-dine-2/
CATEGORIES:Staller Estate Events
ATTACH;FMTTYPE=image/png:https://www.stallerestate.com/wp-content/uploads/2025/01/Valentines-Wine-Dine-2025.png
END:VEVENT
BEGIN:VEVENT
DTSTART;TZID=America/Chicago:20250126T120000
DTEND;TZID=America/Chicago:20250126T140000
DTSTAMP:20260423T131312
CREATED:20250106T020531Z
LAST-MODIFIED:20250114T021823Z
UID:5884-1737892800-1737900000@www.stallerestate.com
SUMMARY:January BINGO
DESCRIPTION:RESERVATIONS REQUIRED \nReady to shout “BINGO!” at our winery? Select your ticket\, gather your luck\, and let the games begin! We have lots of fun prizes to give out! \n  \nSign Up Here
URL:https://www.stallerestate.com/event/january-bingo/
CATEGORIES:Staller Estate Events
ATTACH;FMTTYPE=image/jpeg:https://www.stallerestate.com/wp-content/uploads/2025/01/Winter-BINGO-2025-1.jpg
END:VEVENT
BEGIN:VEVENT
DTSTART;TZID=America/Chicago:20250125T120000
DTEND;TZID=America/Chicago:20250125T140000
DTSTAMP:20260423T131312
CREATED:20250106T015307Z
LAST-MODIFIED:20250106T020056Z
UID:5881-1737806400-1737813600@www.stallerestate.com
SUMMARY:January Paint & Sip
DESCRIPTION:RESERVATIONS REQUIRED \nPaint a cozy little penguin. Art teacher\, Jennifer\, will walk you through the image step-by-step or paint whatever you like! All supplies are included plus a beverage.
URL:https://www.stallerestate.com/event/january-paint-sip-2/
CATEGORIES:Staller Estate Events
ATTACH;FMTTYPE=image/jpeg:https://www.stallerestate.com/wp-content/uploads/2025/01/Winter-Paint-and-Sip-2025-1.jpg
END:VEVENT
BEGIN:VEVENT
DTSTART;TZID=America/Chicago:20241215T120000
DTEND;TZID=America/Chicago:20241215T140000
DTSTAMP:20260423T131312
CREATED:20241030T182129Z
LAST-MODIFIED:20241030T182129Z
UID:5866-1734264000-1734271200@www.stallerestate.com
SUMMARY:Holiday Wine BINGO
DESCRIPTION:  \n \nRESERVATIONS REQUIRED\nReady to shout “BINGO!” at our winery? Select your ticket\, gather your luck\, and let the games begin! We have lots of fun prizes to give out!\n\n$20 per person (includes 5 cards + glass of wine of your choice)$25 per person (includes 5 cards + cocktail of your choice)\n\n**Charcuterie and other drinks available for purchase.**
URL:https://www.stallerestate.com/event/holiday-wine-bingo/
CATEGORIES:Staller Estate Events
END:VEVENT
BEGIN:VEVENT
DTSTART;TZID=America/Chicago:20241214T120000
DTEND;TZID=America/Chicago:20241214T140000
DTSTAMP:20260423T131312
CREATED:20241030T181848Z
LAST-MODIFIED:20241030T182048Z
UID:5869-1734177600-1734184800@www.stallerestate.com
SUMMARY:Winter Cocktail Class
DESCRIPTION:** RESERVATIONS REQUIRED**\n\n$40 per person\n(includes 3 cocktails + light artisan charcuterie)\n\nMake your WINTER unforgettable with a selection of freshly crafted cocktails.\nCome join our exclusive workshop\, where we’ll delve into the fine craft of creating 3 delightful cocktails.\n\nWith our premium distilled Estate Brandy and Country Frost Vodka as our base\, we’ll walk you through crafting cocktails brimming with flavor and flair\, guaranteed to leave a lasting impression on your guests at any gathering.
URL:https://www.stallerestate.com/event/winter-cocktail-class/
CATEGORIES:Staller Estate Events
END:VEVENT
BEGIN:VEVENT
DTSTART;TZID=America/Chicago:20241208T120000
DTEND;TZID=America/Chicago:20241208T140000
DTSTAMP:20260423T131312
CREATED:20241030T182210Z
LAST-MODIFIED:20241030T182210Z
UID:5862-1733659200-1733666400@www.stallerestate.com
SUMMARY:Christmas Wine + Dine
DESCRIPTION:RESERVATIONS REQUIRED\n$60 per person\nJoin us for our delicious Christmas Wine + Dine! This exquisite five-course meal will be paired with our delectable wines.\n\n** We will be offering a Barrel Cellar Upgrade\, cost per person is $85.00 and includes exclusive seating in our Barrel Cellar + 5 course wine pairing + a themed gift bag. To reserve a spot\, please call (608) 883-2100 **
URL:https://www.stallerestate.com/event/christmas-wine-dine-2/
CATEGORIES:Staller Estate Events
END:VEVENT
BEGIN:VEVENT
DTSTART;TZID=America/Chicago:20241123T110000
DTEND;TZID=America/Chicago:20241123T180000
DTSTAMP:20260423T131312
CREATED:20241003T165508Z
LAST-MODIFIED:20241030T181027Z
UID:5852-1732359600-1732384800@www.stallerestate.com
SUMMARY:Ladies' Day
DESCRIPTION: Ladies’ Day at Staller Estate! \n\n**CASH RECOMMENDED**\n\nRound up your besties and get ready for a day of pure fun! It’s time to sip on delicious wine\, cocktails\, munch on charcuterie\, and stroll through the winery\, checking out all our fabulous vendors.\n\nWe’re open from 11 AM – 6 PM\, so come hang out\, shop\, sip\, and repeat—because girls just wanna have fun!\n\nMark your calendars\, and let’s make it a day to remember!
URL:https://www.stallerestate.com/event/ladies-day-4/
CATEGORIES:Staller Estate Events
END:VEVENT
BEGIN:VEVENT
DTSTART;TZID=America/Chicago:20241116T120000
DTEND;TZID=America/Chicago:20241116T140000
DTSTAMP:20260423T131312
CREATED:20240829T155335Z
LAST-MODIFIED:20241030T180934Z
UID:5825-1731758400-1731765600@www.stallerestate.com
SUMMARY:Thanksgiving Wine BINGO
DESCRIPTION:SOLD OUT\nReady to shout “BINGO!” at our winery? Select your ticket\, gather your luck\, and let the games begin! We have lots of fun prizes to give out!\n\n$20 per person (includes 5 cards + glass of wine of your choice)$25 per person (includes 5 cards + cocktail of your choice)\n\n**Charcuterie and other drinks available for purchase.**\n\nGet Tickets HERE
URL:https://www.stallerestate.com/event/thanksgiving-wine-bingo/
CATEGORIES:Staller Estate Events
END:VEVENT
BEGIN:VEVENT
DTSTART;TZID=America/Chicago:20241110T120000
DTEND;TZID=America/Chicago:20241110T140000
DTSTAMP:20260423T131312
CREATED:20240905T214525Z
LAST-MODIFIED:20241030T180858Z
UID:5841-1731240000-1731247200@www.stallerestate.com
SUMMARY:Thanksgiving Wine + Dine
DESCRIPTION:** RESERVATIONS REQUIRED **\n$60 per person\n\n** We will be offering a Barrel Cellar Upgrade\, cost per person is $85.00 and includes exclusive seating in our Barrel Cellar + 5 course wine pairing + a themed gift bag. To reserve a spot\, please call (608) 883-2100 **\n\nJoin us for our delicious Thanksgiving Wine + Dine! This exquisite five-course meal will be paired with our delectable wines.
URL:https://www.stallerestate.com/event/thanksgiving-wine-dine-3/
CATEGORIES:Staller Estate Events
END:VEVENT
BEGIN:VEVENT
DTSTART;TZID=America/Chicago:20241026T120000
DTEND;TZID=America/Chicago:20241026T140000
DTSTAMP:20260423T131312
CREATED:20240829T155522Z
LAST-MODIFIED:20240829T155522Z
UID:5821-1729944000-1729951200@www.stallerestate.com
SUMMARY:Autumn Cocktail Class
DESCRIPTION:$40 per person  \n(includes 3 cocktails + light artisan charcuterie) \nMake your AUTUMN unforgettable with a selection of freshly crafted cocktails. \nCome join our exclusive workshop\, where we’ll delve into the fine craft of creating 3 delightful cocktails. \nWith our premium distilled Estate Brandy and Country Frost Vodka as our base\, we’ll walk you through crafting cocktails brimming with flavor and flair\, guaranteed to leave a lasting impression on your guests at any gathering \nGet Tickets HERE \n 
URL:https://www.stallerestate.com/event/autumn-cocktail-class/
CATEGORIES:Staller Estate Events
END:VEVENT
BEGIN:VEVENT
DTSTART;TZID=America/Chicago:20241013T120000
DTEND;TZID=America/Chicago:20241013T140000
DTSTAMP:20260423T131312
CREATED:20240828T192807Z
LAST-MODIFIED:20241006T210738Z
UID:5809-1728820800-1728828000@www.stallerestate.com
SUMMARY:Harvest Wine + Dine
DESCRIPTION:October 13th @ 12 PM \n**RESERVATIONS REQUIRED** \n$60 per person \n** We will be offering a Barrel Cellar Upgrade\, cost per person is $85.00 and includes exclusive seating in our Barrel Cellar + 5 course wine pairing + a themed gift bag. To reserve a spot\, please call (608) 883-2100 ** \nJoin us for our delicious Harvest Wine + Dine! This exquisite five-course meal will be paired with our delectable wines. \nClick HERE to purchase tickets! \n  \n \n  \n 
URL:https://www.stallerestate.com/event/harvest-wine-dine-2/
CATEGORIES:Staller Estate Events
END:VEVENT
BEGIN:VEVENT
DTSTART;TZID=America/Chicago:20241006T120000
DTEND;TZID=America/Chicago:20241006T140000
DTSTAMP:20260423T131312
CREATED:20240829T161612Z
LAST-MODIFIED:20240829T161612Z
UID:5831-1728216000-1728223200@www.stallerestate.com
SUMMARY:Fall Blooms + Bouquets
DESCRIPTION:Jumpstart this fall with our Fall Blooms & Bouquets Class! Create a stunning arrangement inside a faux pumpkin\, perfect for adding seasonal charm to your space. \nFor just $40 per person\, enjoy a glass of wine\, fall snacks\, and a fun\, hands-on workshop. \nGet your tickets HERE
URL:https://www.stallerestate.com/event/fall-blooms-bouquets-3/
CATEGORIES:Staller Estate Events
END:VEVENT
BEGIN:VEVENT
DTSTART;TZID=America/Chicago:20240811T120000
DTEND;TZID=America/Chicago:20240811T140000
DTSTAMP:20260423T131312
CREATED:20240605T190231Z
LAST-MODIFIED:20240605T190231Z
UID:5782-1723377600-1723384800@www.stallerestate.com
SUMMARY:Fire + Wine: Shrimp Boil
DESCRIPTION:OUTSIDE EVENT (weather permitting)\n\n$60 per personFeatured Chef: Maria Halpin\n\nMark your calendars because the ultimate feast is coming your way! Join us for our highly anticipated annual shrimp boil\, filled with mouthwatering delights.\nOur talented chef will be cooking up a storm with delectable corn\, potatoes\, sausage\, shrimp\, and more! We’ll be pairing this scrumptious spread with our amazing wines!\nGather your friends and family for an unforgettable day of fantastic food and delightful wines.\n\n**RESERVATIONS REQUIRED**
URL:https://www.stallerestate.com/event/fire-wine-shrimp-boil-2/
CATEGORIES:Staller Estate Events
END:VEVENT
BEGIN:VEVENT
DTSTART;TZID=America/Chicago:20240719T180000
DTEND;TZID=America/Chicago:20240719T200000
DTSTAMP:20260423T131312
CREATED:20240624T142156Z
LAST-MODIFIED:20240624T142156Z
UID:5792-1721412000-1721419200@www.stallerestate.com
SUMMARY:Summer Cocktail Workshop
DESCRIPTION:RESERVATIONS REQUIRED\n\n$40 per person(includes 3 cocktails + light artisan charcuterie)\n\nMake your SUMMER unforgettable with a selection of freshly crafted cocktails. Come join our exclusive workshop\, where we’ll delve into the fine craft of creating 3 delightful cocktails.\n\nWith our premium distilled Estate Brandy and Country Frost Vodka as our base\, we’ll walk you through crafting cocktails brimming with flavor and flair\, guaranteed to leave a lasting impression on your guests at any gathering.
URL:https://www.stallerestate.com/event/summer-cocktail-workshop-2/
CATEGORIES:Staller Estate Events
END:VEVENT
BEGIN:VEVENT
DTSTART;TZID=America/Chicago:20240714T120000
DTEND;TZID=America/Chicago:20240714T140000
DTSTAMP:20260423T131312
CREATED:20240605T190012Z
LAST-MODIFIED:20240620T180907Z
UID:5779-1720958400-1720965600@www.stallerestate.com
SUMMARY:Summer Wine BINGO
DESCRIPTION:**RESERVATIONS REQUIRED**\n\nReady to shout “BINGO!” at our winery? Select your ticket\, gather your luck\, and let the games begin! We have lots of fun prizes to give out!\n$20 per person (includes 5 cards + glass of wine of your choice)$25 per person (includes 5 cards + cocktail of your choice)\n\n**Charcuterie and other drinks available for purchase.**
URL:https://www.stallerestate.com/event/summer-wine-bingo/
CATEGORIES:Staller Estate Events
END:VEVENT
BEGIN:VEVENT
DTSTART;TZID=America/Chicago:20240621T180000
DTEND;TZID=America/Chicago:20240621T200000
DTSTAMP:20260423T131312
CREATED:20240609T163149Z
LAST-MODIFIED:20240609T163149Z
UID:5785-1718992800-1719000000@www.stallerestate.com
SUMMARY:Old Fashioned Cocktail Class
DESCRIPTION:RESERVATIONS REQUIRED\n\n$40 per person(includes 3 cocktails + light artisan charcuterie)\n\nKick off summer with our Old Fashioned Cocktail Class! Join us for an exclusive workshop where we’ll master the art of crafting three refreshing Old Fashioned Cocktails.\nUsing our distilled Estate Brandy\, we’ll guide you through the process of creating three distinct Old Fashioned variations\, each bursting with flavor and personality.
URL:https://www.stallerestate.com/event/old-fashioned-cocktail-class-4/
CATEGORIES:Staller Estate Events
END:VEVENT
BEGIN:VEVENT
DTSTART;TZID=America/Chicago:20240609T120000
DTEND;TZID=America/Chicago:20240609T140000
DTSTAMP:20260423T131312
CREATED:20240516T173634Z
LAST-MODIFIED:20240524T172401Z
UID:5768-1717934400-1717941600@www.stallerestate.com
SUMMARY:Father's Day Wine + Dine
DESCRIPTION:Join us on June 9th @ 12:00 PM for our delicious Father’s Day Wine + Dine! This exquisite five-course meal will be paired with our delectable wines and a special Brandy cocktail!\n\nThe cost per person is $60.\n\n** We will be offering a Barrel Cellar Upgrade\, cost per person is $85.00 and includes exclusive seating in our Barrel Cellar + 5 course wine pairing + a themed gift bag. To reserve a spot\, please call (608) 883-2100 **
URL:https://www.stallerestate.com/event/fathers-day-wine-dine-2/
CATEGORIES:Staller Estate Events
END:VEVENT
END:VCALENDAR